BEGIN:VCALENDAR
VERSION:2.0
PRODID:-//CIEDUR :: Centro Interdisciplinario de Estudios sobre Desarrollo - ECPv5.8.1//NONSGML v1.0//EN
CALSCALE:GREGORIAN
METHOD:PUBLISH
X-WR-CALNAME:CIEDUR :: Centro Interdisciplinario de Estudios sobre Desarrollo
X-ORIGINAL-URL:https://ciedur.org.uy/site
X-WR-CALDESC:Eventos para CIEDUR :: Centro Interdisciplinario de Estudios sobre Desarrollo
BEGIN:VTIMEZONE
TZID:UTC
BEGIN:STANDARD
TZOFFSETFROM:+0000
TZOFFSETTO:+0000
TZNAME:UTC
DTSTART:20200101T000000
END:STANDARD
END:VTIMEZONE
BEGIN:VEVENT
DTSTART;TZID=UTC:20200917T180000
DTEND;TZID=UTC:20200917T200000
DTSTAMP:20260423T015112
CREATED:20200909T100303Z
LAST-MODIFIED:20210817T015937Z
UID:651-1600365600-1600372800@ciedur.org.uy
SUMMARY:DEBATE: Acuerdo de asociación Mercosur - Unión Europea. Análisis de los impactos económicos\, ambientales y de género.
DESCRIPTION:DEBATE: Acuerdo de asociación Mercosur – Unión Europea. Análisis de los impactos económicos\, ambientales y de género. \nJueves 17 de septiembre\, 18.00 hs (Uruguay) \nParticipantes:\nNatalia Quiroga Díaz – Economía feminista.\nAlma Espino – Red de Género y Comercio y Ciedur.\nGraciela Rodríguez – Instituto Equit. Red de Género y Comercio.\nViviana Barreto – Directora de Proyectos FESUR \nDe la complejidad interamercosur a la reprimarización. Cuestionamientos al acuerdo desde el Mercosur y desde Europa. Impactos ambientales y en la vida de las mujeres. Agronegocios y destrucción ambiental. Entre la enfermedad y el asesinato de los/as defensores de la tierra y el territorio. La estrategia europea: “de la granja a la mesa” y el acuerdo con el Mercosur. \nVer video aquí
URL:https://ciedur.org.uy/site/agenda/debate-acuerdo-de-asociacion-mercosur-union-europea-analisis-de-los-impactos-economicos-ambientales-y-de-genero/
CATEGORIES:tribe_events
END:VEVENT
END:VCALENDAR