BEGIN:VCALENDAR
VERSION:2.0
PRODID:-//CIEDUR :: Centro Interdisciplinario de Estudios sobre Desarrollo - ECPv5.8.1//NONSGML v1.0//EN
CALSCALE:GREGORIAN
METHOD:PUBLISH
X-WR-CALNAME:CIEDUR :: Centro Interdisciplinario de Estudios sobre Desarrollo
X-ORIGINAL-URL:https://ciedur.org.uy/site
X-WR-CALDESC:Eventos para CIEDUR :: Centro Interdisciplinario de Estudios sobre Desarrollo
BEGIN:VTIMEZONE
TZID:UTC
BEGIN:STANDARD
TZOFFSETFROM:+0000
TZOFFSETTO:+0000
TZNAME:UTC
DTSTART:20240101T000000
END:STANDARD
END:VTIMEZONE
BEGIN:VEVENT
DTSTART;VALUE=DATE:20240809
DTEND;VALUE=DATE:20240827
DTSTAMP:20260422T145350
CREATED:20240809T174226Z
LAST-MODIFIED:20240809T201212Z
UID:2120-1723161600-1724716799@ciedur.org.uy
SUMMARY:DE LA CHACRA AL PAISAJE CONVOCATORIA A POSTULACIONES
DESCRIPTION:Se invita a productores/as familiares y emprendedores/as rurales de Canelones\, Colonia\, Montevideo y San José a postularse para participar en el proyecto «De la Chacra al Paisaje\,» co-ejecutado por VSUY\, CEUTA y CIEDUR. Este proyecto\, financiado por la Unión Europea\, busca implementar medidas que favorezcan la biodiversidad en los predios. \n\n\n\n\nDuración: 24-30 meses \nRequisitos: Ser productor/a o gestor/a rural en la zona de alcance\, con compromiso de trabajo en el predio por al menos 3 años. \nPostulación: Hasta el 26/08/2024. \nContacto: proyectochacraypaisaje@gmail.com \n\n\n\n\n\n\n\n\nConvocatoria a postulantes a participar del Proyecto De la chacra al paisaje\, aquí. \nVer video de convocatoria\, aquí.
URL:https://ciedur.org.uy/site/agenda/de-la-chacra-al-paisaje-convocatoria-a-postulaciones/
END:VEVENT
END:VCALENDAR