BEGIN:VCALENDAR
VERSION:2.0
PRODID:-//CIEDUR :: Centro Interdisciplinario de Estudios sobre Desarrollo - ECPv5.8.1//NONSGML v1.0//EN
CALSCALE:GREGORIAN
METHOD:PUBLISH
X-WR-CALNAME:CIEDUR :: Centro Interdisciplinario de Estudios sobre Desarrollo
X-ORIGINAL-URL:https://ciedur.org.uy/site
X-WR-CALDESC:Eventos para CIEDUR :: Centro Interdisciplinario de Estudios sobre Desarrollo
BEGIN:VTIMEZONE
TZID:UTC
BEGIN:STANDARD
TZOFFSETFROM:+0000
TZOFFSETTO:+0000
TZNAME:UTC
DTSTART:20250101T000000
END:STANDARD
END:VTIMEZONE
BEGIN:VEVENT
DTSTART;TZID=UTC:20250508T080000
DTEND;TZID=UTC:20250508T093000
DTSTAMP:20260422T221918
CREATED:20250425T190249Z
LAST-MODIFIED:20250425T190535Z
UID:2514-1746691200-1746696600@ciedur.org.uy
SUMMARY:Curso virtual: Sin recursos no hay política feminista - segunda edición
DESCRIPTION:América Latina necesita políticas fiscales feministas. Por eso y por el alto interés en la primera versión en 2024 abrimos la segunda edición de este curso virtual para analizar cómo la política fiscal puede contribuir (o no) a la equidad de género. \n\n3 módulos\n7 sesiones virtuales sincrónicas durante mayo – martes y jueves de 18-19:30hrs (GMT-3)\nAula virtual con bibliografía\, recursos didácticos y entrevistas a especialistas\n\n¡Cupos limitados! \nEsta edición viene con: \n\nConferencia inaugural abierta para hablar de política fiscal feminista en tiempos de crisis de las democracias y políticas económicas de ultraderechas\nNuevos contenidos en el aula virtual con una entrevista para abordar el vínculo entre educación y deuda\nConvocatoria orientada a juventudes\n\nEl curso está dirigido a: \n\nActivistas feministas y militantes políticxs y sociales\nPeriodistas\, asesorxs de hacedores de políticas públicas\, estudiantes de ciencias sociales\, entre otros\nPersonas que quieren/necesitan incorporar una perspectiva de género y feminista\n\nPriorizaremos la inscripción de personas jóvenes entre 20 y 35 años. \nNo se requieren conocimientos previos en temas de política fiscal. \n¡Postula acá hasta el 11 de abril! Te esperamos. \nTambién te invitamos a inscribirte para la conferencia inaugural (virtual y abierta a todo público) que se realizará el 8 de mayo\, 11:00-12:30hrs (GMT-3).
URL:https://ciedur.org.uy/site/agenda/curso-virtual-sin-recursos-no-hay-politica-feminista-segunda-edicion/
END:VEVENT
END:VCALENDAR