BEGIN:VCALENDAR
VERSION:2.0
PRODID:-//CIEDUR :: Centro Interdisciplinario de Estudios sobre Desarrollo - ECPv5.8.1//NONSGML v1.0//EN
CALSCALE:GREGORIAN
METHOD:PUBLISH
X-WR-CALNAME:CIEDUR :: Centro Interdisciplinario de Estudios sobre Desarrollo
X-ORIGINAL-URL:https://ciedur.org.uy/site
X-WR-CALDESC:Eventos para CIEDUR :: Centro Interdisciplinario de Estudios sobre Desarrollo
BEGIN:VTIMEZONE
TZID:UTC
BEGIN:STANDARD
TZOFFSETFROM:+0000
TZOFFSETTO:+0000
TZNAME:UTC
DTSTART:20200101T000000
END:STANDARD
END:VTIMEZONE
BEGIN:VEVENT
DTSTART;TZID=UTC:20201105T170000
DTEND;TZID=UTC:20201210T200000
DTSTAMP:20260422T201612
CREATED:20201029T101718Z
LAST-MODIFIED:20210817T015204Z
UID:654-1604595600-1607630400@ciedur.org.uy
SUMMARY:Curso de Educación Permanente: Herramientas para una Gestión Sostenible del Palmar de Butiá en Rocha
DESCRIPTION:Curso de Educación Permanente: Herramientas para una Gestión Sostenible del Palmar de Butiá en Rocha \nDel 5 de noviembre al 10 de diciembre.\nTodos los jueves de 17.00 hs a 20.00 hs\nInscripciones hasta el 30 de diciembre.\nPor inscripciones escribir a: palmarcurso2020@gmail.com\n  \n 
URL:https://ciedur.org.uy/site/agenda/curso-de-educacion-permanente-herramientas-para-una-gestion-sostenible-del-palmar-de-butia-en-rocha/
CATEGORIES:tribe_events
END:VEVENT
END:VCALENDAR