BEGIN:VCALENDAR
VERSION:2.0
PRODID:-//CIEDUR :: Centro Interdisciplinario de Estudios sobre Desarrollo - ECPv5.8.1//NONSGML v1.0//EN
CALSCALE:GREGORIAN
METHOD:PUBLISH
X-WR-CALNAME:CIEDUR :: Centro Interdisciplinario de Estudios sobre Desarrollo
X-ORIGINAL-URL:https://ciedur.org.uy/site
X-WR-CALDESC:Eventos para CIEDUR :: Centro Interdisciplinario de Estudios sobre Desarrollo
BEGIN:VTIMEZONE
TZID:UTC
BEGIN:STANDARD
TZOFFSETFROM:+0000
TZOFFSETTO:+0000
TZNAME:UTC
DTSTART:20240101T000000
END:STANDARD
END:VTIMEZONE
BEGIN:VEVENT
DTSTART;TZID=UTC:20241128T143000
DTEND;TZID=UTC:20241128T170000
DTSTAMP:20260423T182207
CREATED:20241129T193831Z
LAST-MODIFIED:20241129T194503Z
UID:2360-1732804200-1732813200@ciedur.org.uy
SUMMARY:Cuidados y Uso del Tiempo: Experiencias Latinoamericanas para Pensar las Políticas de Cuidado en Brasil
DESCRIPTION:Reflexión Regional sobre Cuidados y Uso del Tiempo \n\n\nDestacadamos la participación de Alma Espino. Su intervención se da en el marco del proyecto “Sistema de cuidado y trabajo no remunerado”\, desarrollado junto al Centro de Pesquisa em Macroeconomia das Desigualdades de la Universidad de São Paulo (MADE-USP).
URL:https://ciedur.org.uy/site/agenda/cuidados-y-uso-del-tiempo-experiencias-latinoamericanas-para-pensar-las-politicas-de-cuidado-en-brasil/
LOCATION:Ipea\, Brasil\, Brasil
ORGANIZER;CN="Ipea%20-%20Instituto%20de%20Investigaciones%20Econ%C3%B3micas%20Aplicadas":MAILTO:disoc@ipea.gov.uy
END:VEVENT
END:VCALENDAR