BEGIN:VCALENDAR
VERSION:2.0
PRODID:-//CIEDUR :: Centro Interdisciplinario de Estudios sobre Desarrollo - ECPv5.8.1//NONSGML v1.0//EN
CALSCALE:GREGORIAN
METHOD:PUBLISH
X-WR-CALNAME:CIEDUR :: Centro Interdisciplinario de Estudios sobre Desarrollo
X-ORIGINAL-URL:https://ciedur.org.uy/site
X-WR-CALDESC:Eventos para CIEDUR :: Centro Interdisciplinario de Estudios sobre Desarrollo
BEGIN:VTIMEZONE
TZID:UTC
BEGIN:STANDARD
TZOFFSETFROM:+0000
TZOFFSETTO:+0000
TZNAME:UTC
DTSTART:20240101T000000
END:STANDARD
END:VTIMEZONE
BEGIN:VEVENT
DTSTART;TZID=UTC:20240418T090000
DTEND;TZID=UTC:20240418T160000
DTSTAMP:20260422T220739
CREATED:20240417T154238Z
LAST-MODIFIED:20240419T202114Z
UID:2011-1713430800-1713456000@ciedur.org.uy
SUMMARY:CUIDADOS COOPERATIVOS - EXPERIENCIAS Y AVANCES DE LA PROVISIÓN COLECTIVA EN EL PROGRAMA DE ASISTENTES PERSONALES
DESCRIPTION:En el marco de «Abril mes de los cuidados» te invitamos a sumarte a una jornada de aprendizaje y reflexión sobre los «Cuidados Cooperativos». \nDe 11:30 – 12:00 hs\, estaremos presentando los «Resultados preliminares de la encuesta a Asistentes Personales en modalidad colectiva». Descubre los avances del trabajo conjunto entre Ciedur y la Secretaría Nacional de Cuidados en el proyecto «Programa de Asistentes Personales en Uruguay: ¿una apuesta a la igualdad de género?”. \nVer evento\, aquí. 
URL:https://ciedur.org.uy/site/agenda/cuidados-cooperativos-experiencias-y-avances-de-la-provision-colectiva-en-el-programa-de-asistentes-personales/
LOCATION:Sala del Auditorio “Mario Benedetti”\, Torre de las Telecomunicaciones de ANTEL\, Guatemala 1075\, Montevideo\, Uruguay
END:VEVENT
END:VCALENDAR