BEGIN:VCALENDAR
VERSION:2.0
PRODID:-//CIEDUR :: Centro Interdisciplinario de Estudios sobre Desarrollo - ECPv5.8.1//NONSGML v1.0//EN
CALSCALE:GREGORIAN
METHOD:PUBLISH
X-WR-CALNAME:CIEDUR :: Centro Interdisciplinario de Estudios sobre Desarrollo
X-ORIGINAL-URL:https://ciedur.org.uy/site
X-WR-CALDESC:Eventos para CIEDUR :: Centro Interdisciplinario de Estudios sobre Desarrollo
BEGIN:VTIMEZONE
TZID:UTC
BEGIN:STANDARD
TZOFFSETFROM:+0000
TZOFFSETTO:+0000
TZNAME:UTC
DTSTART:20200101T000000
END:STANDARD
END:VTIMEZONE
BEGIN:VEVENT
DTSTART;TZID=UTC:20200709T183000
DTEND;TZID=UTC:20200709T200000
DTSTAMP:20260423T055859
CREATED:20200707T104803Z
LAST-MODIFIED:20210817T021027Z
UID:649-1594319400-1594324800@ciedur.org.uy
SUMMARY:Crisis de los cuidados | Miradas político-sociales de la región
DESCRIPTION:Conversatorio: Crisis de los cuidados | Miradas político-sociales de la región\n\n\n\nContinúa el ciclo de charlas organizadas por Fundación Nodo XXI y Friedrich Ebert en Chile.\n\n\n\nJueves 9 de julio\, 18.30 hs (Uruguay)\n\n\n\n\nParticipantes: \nAlma Espino\, Economista feminista\, investigadora y Presidenta de Ciedur.\n\n\nVerónica Gago\, PhD Ciencias Sociales\, periodista y militante del colectivo Ni una menos de Argentina.\n\nDaniela López\, Abogada feminista\, Directora de la Fundación Nodo XXI de Chile.\n\n\n\n\nInscripción gratuita: https://bit.ly/2ZNNqIX
URL:https://ciedur.org.uy/site/agenda/crisis-de-los-cuidados-miradas-politico-sociales-de-la-region/
CATEGORIES:tribe_events
END:VEVENT
END:VCALENDAR