BEGIN:VCALENDAR
VERSION:2.0
PRODID:-//CIEDUR :: Centro Interdisciplinario de Estudios sobre Desarrollo - ECPv5.8.1//NONSGML v1.0//EN
CALSCALE:GREGORIAN
METHOD:PUBLISH
X-WR-CALNAME:CIEDUR :: Centro Interdisciplinario de Estudios sobre Desarrollo
X-ORIGINAL-URL:https://ciedur.org.uy/site
X-WR-CALDESC:Eventos para CIEDUR :: Centro Interdisciplinario de Estudios sobre Desarrollo
BEGIN:VTIMEZONE
TZID:UTC
BEGIN:STANDARD
TZOFFSETFROM:+0000
TZOFFSETTO:+0000
TZNAME:UTC
DTSTART:20200101T000000
END:STANDARD
END:VTIMEZONE
BEGIN:VEVENT
DTSTART;TZID=UTC:20200415T100000
DTEND;TZID=UTC:20200415T233000
DTSTAMP:20260423T172815
CREATED:20200414T182447Z
LAST-MODIFIED:20210817T024241Z
UID:642-1586944800-1586993400@ciedur.org.uy
SUMMARY:Corresponsabilidad\, cuidados y el enfoque de género en la gestión de la crisis COVID-19
DESCRIPTION:En el marco de la pandemia COVID-19\, invitamos al taller co-organizado por  Ciedur el 15 de abril de 10.00 a 11.30 hs. \nSoledad Salvador expondrá sobre «Corresponsabilidad\, cuidados y el enfoque de género en la gestión de la crisis COVID-19». \n\nActividad online y sin costo: https://bit.ly/33LHZvW \n 
URL:https://ciedur.org.uy/site/agenda/corresponsabilidad-cuidados-y-el-enfoque-de-genero-en-la-gestion-de-la-crisis-covid-19/
CATEGORIES:tribe_events
END:VEVENT
END:VCALENDAR