BEGIN:VCALENDAR
VERSION:2.0
PRODID:-//CIEDUR :: Centro Interdisciplinario de Estudios sobre Desarrollo - ECPv5.8.1//NONSGML v1.0//EN
CALSCALE:GREGORIAN
METHOD:PUBLISH
X-WR-CALNAME:CIEDUR :: Centro Interdisciplinario de Estudios sobre Desarrollo
X-ORIGINAL-URL:https://ciedur.org.uy/site
X-WR-CALDESC:Eventos para CIEDUR :: Centro Interdisciplinario de Estudios sobre Desarrollo
BEGIN:VTIMEZONE
TZID:UTC
BEGIN:STANDARD
TZOFFSETFROM:+0000
TZOFFSETTO:+0000
TZNAME:UTC
DTSTART:20240101T000000
END:STANDARD
END:VTIMEZONE
BEGIN:VEVENT
DTSTART;VALUE=DATE:20240830
DTEND;VALUE=DATE:20240920
DTSTAMP:20260424T085723
CREATED:20240830T190054Z
LAST-MODIFIED:20240830T190545Z
UID:2160-1724976000-1726790399@ciedur.org.uy
SUMMARY:Convocatoria 2024: Jóvenes para el Liderazgo Ambiental. Conecta\, Aprende\, Lidera.
DESCRIPTION:Convocatoria 2024: Jóvenes para el Liderazgo Ambiental. Conecta\, Aprende\, Lidera. \nConecta: Conectá con otros colectivos y creá redes para transformar tu comunidad. \nAprende: Participá en un proceso de formación integral en liderazgo ambiental. Desarrollá habilidades y adquirí conocimientos clave para llevar adelante iniciativas que promuevan la sostenibilidad y el cuidado del ambiente. \nLidera: Liderá con tu colectivo acciones que transformen tu comunidad. Tu liderazgo es clave para impulsar acciones que protejan nuestros recursos naturales y mejoren la calidad de vida en tu comunidad. \n¿Sos joven y tenés ideas para transformar tu comunidad? ¡Participá de la Convocatoria 2024 de Jóvenes para el Liderazgo Ambiental! ✨ \nEl Programa de Pequeñas Donaciones de Uruguay (PPD) y CIEDUR te invitan a ser parte del cambio. Presenta tu propuesta y colabora con otros/as jóvenes comprometidos para mejorar nuestro entorno. \n¿Qué necesitas para participar?\nFormar un grupo de mínimo 3 personas.\nTener entre 18 y 30 años.\nResidir en los departamentos de Canelones\, Cerro Largo\, Durazno\, Flores\, Río Negro\, Soriano y Tacuarembó. \nEnviar tu propuesta antes del 19 de septiembre de 2024. \n¿Qué te ofrecemos?\nFinanciamiento de hasta UYU 85.000 para las iniciativas seleccionadas.\nAcceso a formación en liderazgo ambiental para fortalecer tus capacidades.\nLa oportunidad de trabajar en red y colaborar con otros/as jóvenes comprometidos con el ambiente. \n¡Presentá tu iniciativa completando el formulario de inscripción\, aquí! \nPor más información y consultas visitá nuestra web o a través de:  \nMail: iniciativasjuveniles2024@gmail.com \nWhatsApp: 098885847
URL:https://ciedur.org.uy/site/agenda/convocatoria-2024-jovenes-para-el-liderazgo-ambiental-conecta-aprende-lidera/
END:VEVENT
END:VCALENDAR