BEGIN:VCALENDAR
VERSION:2.0
PRODID:-//CIEDUR :: Centro Interdisciplinario de Estudios sobre Desarrollo - ECPv5.8.1//NONSGML v1.0//EN
CALSCALE:GREGORIAN
METHOD:PUBLISH
X-WR-CALNAME:CIEDUR :: Centro Interdisciplinario de Estudios sobre Desarrollo
X-ORIGINAL-URL:https://ciedur.org.uy/site
X-WR-CALDESC:Eventos para CIEDUR :: Centro Interdisciplinario de Estudios sobre Desarrollo
BEGIN:VTIMEZONE
TZID:UTC
BEGIN:STANDARD
TZOFFSETFROM:+0000
TZOFFSETTO:+0000
TZNAME:UTC
DTSTART:20230101T000000
END:STANDARD
END:VTIMEZONE
BEGIN:VEVENT
DTSTART;TZID=UTC:20230830T140000
DTEND;TZID=UTC:20230830T163000
DTSTAMP:20260424T040025
CREATED:20230822T172453Z
LAST-MODIFIED:20230822T174841Z
UID:1716-1693404000-1693413000@ciedur.org.uy
SUMMARY:Conversatorio. Lactancia\, trabajo y derechos: actualidad y perspectivas
DESCRIPTION:Destacamos la participación de Soledad Salvador. \nInscripciones\, aquí.
URL:https://ciedur.org.uy/site/agenda/conversatorio-lactancia-trabajo-y-derechos-actualidad-y-perspectivas/
END:VEVENT
END:VCALENDAR