BEGIN:VCALENDAR
VERSION:2.0
PRODID:-//CIEDUR :: Centro Interdisciplinario de Estudios sobre Desarrollo - ECPv5.8.1//NONSGML v1.0//EN
CALSCALE:GREGORIAN
METHOD:PUBLISH
X-WR-CALNAME:CIEDUR :: Centro Interdisciplinario de Estudios sobre Desarrollo
X-ORIGINAL-URL:https://ciedur.org.uy/site
X-WR-CALDESC:Eventos para CIEDUR :: Centro Interdisciplinario de Estudios sobre Desarrollo
BEGIN:VTIMEZONE
TZID:UTC
BEGIN:STANDARD
TZOFFSETFROM:+0000
TZOFFSETTO:+0000
TZNAME:UTC
DTSTART:20200101T000000
END:STANDARD
END:VTIMEZONE
BEGIN:VEVENT
DTSTART;TZID=UTC:20201112T180000
DTEND;TZID=UTC:20201112T190000
DTSTAMP:20260422T181654
CREATED:20201112T135218Z
LAST-MODIFIED:20210817T014855Z
UID:655-1605204000-1605207600@ciedur.org.uy
SUMMARY:Conversatorio: El mañana pospandemia. Coronavirus y sociedad
DESCRIPTION:Conversatorio: El mañana pospandemia. Coronavirus y sociedad \n  \nJueves 12 de noviembre\, 18.00 hs \nParticipantes: Camila Condon (portal Solidaridad.uy)\, Esteban Corrales (Coordinadora de Ollas Populares) y Soledad Salvador (economista\, especialista en temas referidos a las desigualdades de género en el mercado laboral). \nModera: Natalia Uval (editora de Opinión de la diaria). \nTransmisión en vivo \n 
URL:https://ciedur.org.uy/site/agenda/conversatorio-el-manana-pospandemia-coronavirus-y-sociedad/
CATEGORIES:tribe_events
END:VEVENT
END:VCALENDAR