BEGIN:VCALENDAR
VERSION:2.0
PRODID:-//CIEDUR :: Centro Interdisciplinario de Estudios sobre Desarrollo - ECPv5.8.1//NONSGML v1.0//EN
CALSCALE:GREGORIAN
METHOD:PUBLISH
X-WR-CALNAME:CIEDUR :: Centro Interdisciplinario de Estudios sobre Desarrollo
X-ORIGINAL-URL:https://ciedur.org.uy/site
X-WR-CALDESC:Eventos para CIEDUR :: Centro Interdisciplinario de Estudios sobre Desarrollo
BEGIN:VTIMEZONE
TZID:America/Montevideo
BEGIN:STANDARD
TZOFFSETFROM:-0300
TZOFFSETTO:-0300
TZNAME:-03
DTSTART:20240101T000000
END:STANDARD
END:VTIMEZONE
BEGIN:VEVENT
DTSTART;TZID=America/Montevideo:20241204T133000
DTEND;TZID=America/Montevideo:20241204T150000
DTSTAMP:20260423T145456
CREATED:20241203T171209Z
LAST-MODIFIED:20241204T142310Z
UID:2365-1733319000-1733324400@ciedur.org.uy
SUMMARY:Conversatorio: Diálogos desde la economía feminista. Teoría y Praxis de la economía feminista: Resistencias y alternativas al capitalismo
DESCRIPTION:Alma Espino\, economista especializada en género y presidenta del Centro Interdisciplinario de Estudios sobre el Desarrollo (CIEDUR)\, participará en este conversatorio internacional junto a economistas feministas de América Latina y España. \nEl evento tiene como objetivo reflexionar juntas sobre resistencias y alternativas al capitalismo patriarcal fomentar el trabajo colectivo hacia horizontes emancipatorios\, presentando investigaciones y prácticas transformadoras desde la economía feminista. \nConéctate al conversatorio.
URL:https://ciedur.org.uy/site/agenda/conversatorio-dialogos-desde-la-economia-feminista-teoria-y-praxis-de-la-economia-feminista-resistencias-y-alternativas-al-capitalismo/
END:VEVENT
END:VCALENDAR