BEGIN:VCALENDAR
VERSION:2.0
PRODID:-//CIEDUR :: Centro Interdisciplinario de Estudios sobre Desarrollo - ECPv5.8.1//NONSGML v1.0//EN
CALSCALE:GREGORIAN
METHOD:PUBLISH
X-WR-CALNAME:CIEDUR :: Centro Interdisciplinario de Estudios sobre Desarrollo
X-ORIGINAL-URL:https://ciedur.org.uy/site
X-WR-CALDESC:Eventos para CIEDUR :: Centro Interdisciplinario de Estudios sobre Desarrollo
BEGIN:VTIMEZONE
TZID:UTC
BEGIN:STANDARD
TZOFFSETFROM:+0000
TZOFFSETTO:+0000
TZNAME:UTC
DTSTART:20210101T000000
END:STANDARD
END:VTIMEZONE
BEGIN:VEVENT
DTSTART;TZID=UTC:20211028T130000
DTEND;TZID=UTC:20211028T143000
DTSTAMP:20260423T175456
CREATED:20211026T182325Z
LAST-MODIFIED:20211111T170610Z
UID:1082-1635426000-1635431400@ciedur.org.uy
SUMMARY:Conversatorio CIVITIC 42. Accionando barrios periféricos
DESCRIPTION:Destacamos la participación de Ivahanna Larrosa que presentará la Campaña regional «Nuestros Barrios\, nuestros derechos\, nuestras ciudades». \nInscripciones\, aquí. ID de reunión: 82752707796 \nVer en vivo\, aquí.
URL:https://ciedur.org.uy/site/agenda/conversatorio-civitic-42-accionando-barrios-perifericos/
END:VEVENT
END:VCALENDAR