BEGIN:VCALENDAR
VERSION:2.0
PRODID:-//CIEDUR :: Centro Interdisciplinario de Estudios sobre Desarrollo - ECPv5.8.1//NONSGML v1.0//EN
CALSCALE:GREGORIAN
METHOD:PUBLISH
X-WR-CALNAME:CIEDUR :: Centro Interdisciplinario de Estudios sobre Desarrollo
X-ORIGINAL-URL:https://ciedur.org.uy/site
X-WR-CALDESC:Eventos para CIEDUR :: Centro Interdisciplinario de Estudios sobre Desarrollo
BEGIN:VTIMEZONE
TZID:UTC
BEGIN:STANDARD
TZOFFSETFROM:+0000
TZOFFSETTO:+0000
TZNAME:UTC
DTSTART:20210101T000000
END:STANDARD
END:VTIMEZONE
BEGIN:VEVENT
DTSTART;TZID=UTC:20210326T190000
DTEND;TZID=UTC:20210326T210000
DTSTAMP:20260419T221812
CREATED:20210326T100918Z
LAST-MODIFIED:20210817T010345Z
UID:673-1616785200-1616792400@ciedur.org.uy
SUMMARY:Conversaciones en torno a la economía feminista
DESCRIPTION:Destacamos las participaciones de Alma Espino que expondrá sobre las «Aplicaciones de la economía feminista en la investigación y la enseñanza universitaria»\, y de Soledad Salvador que hablará sobre la «Evidencia sobre los impactos de género de las políticas económicas». \nInscripciones acá
URL:https://ciedur.org.uy/site/agenda/conversaciones-en-torno-a-la-economia-feminista/
CATEGORIES:tribe_events
END:VEVENT
END:VCALENDAR