BEGIN:VCALENDAR
VERSION:2.0
PRODID:-//CIEDUR :: Centro Interdisciplinario de Estudios sobre Desarrollo - ECPv5.8.1//NONSGML v1.0//EN
CALSCALE:GREGORIAN
METHOD:PUBLISH
X-WR-CALNAME:CIEDUR :: Centro Interdisciplinario de Estudios sobre Desarrollo
X-ORIGINAL-URL:https://ciedur.org.uy/site
X-WR-CALDESC:Eventos para CIEDUR :: Centro Interdisciplinario de Estudios sobre Desarrollo
BEGIN:VTIMEZONE
TZID:UTC
BEGIN:STANDARD
TZOFFSETFROM:+0000
TZOFFSETTO:+0000
TZNAME:UTC
DTSTART:20220101T000000
END:STANDARD
END:VTIMEZONE
BEGIN:VEVENT
DTSTART;TZID=UTC:20221013T140000
DTEND;TZID=UTC:20221013T153000
DTSTAMP:20260425T155049
CREATED:20221006T165352Z
LAST-MODIFIED:20221006T165352Z
UID:1464-1665669600-1665675000@ciedur.org.uy
SUMMARY:CONFERENCIA - Lo que la pandemia nos dejó: transformaciones necesarias
DESCRIPTION:Invitamos a acompañarnos en este ciclo de conferencias sobre protección social en América del Sur. \nLa cuarta videoconferencia: “Lo que la pandemia nos dejó: transformaciones necesarias” forma parte del ciclo de conferencias: “Fortalecer los cuidados y la seguridad social”. \nEl objetivo es aportar a la discusión de la temática fortaleciendo la  incidencia política de la sociedad civil\, con un abordaje innovador  que incluya los temas generales de la seguridad social desde una  perspectiva que asegure la sostenibilidad de la vida. Con tal fin  invitamos a expertas\, sindicalistas\, integrantes de organizaciones  feministas\, académicas y activistas en la materia a participar de  estas instancias. \nRealizaremos cinco actividades regionales entre los meses de Setiembre  y Noviembre: cuatro videoconferencias online y un taller presencial.  Las temáticas a abordar serán las siguientes:\n1. La protección social desde los cuidados.\n2. Los cuidados comunitarios en tiempos de COVID-19.\n3. Cuando el Estado falta a la cita: la (in)sostenibilidad de la vida\n4. Lo que la pandemia nos dejó: transformaciones necesarias\n5. Experiencias sobre nuestras luchas comunes por la justicia  económica y de género\, y sobre todo el rol del Estado y de las  políticas públicas. Este taller se propone como actividad paralela de  la 62 Conferencia regional de la Mujer de CEPAL en Buenos Aires. \nActividad en español. \nRegistro previo. \nVer programa. \nVer nota conceptual y programa del completo del ciclo de conferencias. \nPor más información contactarse a proteccionsocial@ciedur.org.uy \n¡Nos vemos pronto!
URL:https://ciedur.org.uy/site/agenda/conferencia-lo-que-la-pandemia-nos-dejo-transformaciones-necesarias/
END:VEVENT
END:VCALENDAR