BEGIN:VCALENDAR
VERSION:2.0
PRODID:-//CIEDUR :: Centro Interdisciplinario de Estudios sobre Desarrollo - ECPv5.8.1//NONSGML v1.0//EN
CALSCALE:GREGORIAN
METHOD:PUBLISH
X-WR-CALNAME:CIEDUR :: Centro Interdisciplinario de Estudios sobre Desarrollo
X-ORIGINAL-URL:https://ciedur.org.uy/site
X-WR-CALDESC:Eventos para CIEDUR :: Centro Interdisciplinario de Estudios sobre Desarrollo
BEGIN:VTIMEZONE
TZID:UTC
BEGIN:STANDARD
TZOFFSETFROM:+0000
TZOFFSETTO:+0000
TZNAME:UTC
DTSTART:20250101T000000
END:STANDARD
END:VTIMEZONE
BEGIN:VEVENT
DTSTART;TZID=UTC:20250506T110000
DTEND;TZID=UTC:20250506T130000
DTSTAMP:20260423T001020
CREATED:20250508T152258Z
LAST-MODIFIED:20250508T152520Z
UID:2532-1746529200-1746536400@ciedur.org.uy
SUMMARY:Comunidades y Estado: hacia la sociedad del Cuidado
DESCRIPTION:Actividad de presentación e intercambio sobre la provisión colectiva en el Programa Asistentes Personales del Sistema de Cuidados\, en el marco del convenio juntos\, Ministerio de Desarrollo Social – INACOOP. \n\n\nCooperativas de Salto y Montevideo contarán su experiencia y se presentarán los resultados de la consultoría realizada por CIEDUR a cargo de Soledad Salvador. \n\n\nParticiparán autoridades del Ministerio de Trabajo y Seguridad Social\, del Ministerio de Desarrollo Social\, del Instituto Nacional del Cooperativismo y del Instituto Nacional de Empleo.
URL:https://ciedur.org.uy/site/agenda/comunidades-y-estado-hacia-la-sociedad-del-cuidado/
LOCATION:Slaa de INACOOP\, Sarandí 302\, Montevideo\, Uruguay
END:VEVENT
END:VCALENDAR