BEGIN:VCALENDAR
VERSION:2.0
PRODID:-//CIEDUR :: Centro Interdisciplinario de Estudios sobre Desarrollo - ECPv5.8.1//NONSGML v1.0//EN
CALSCALE:GREGORIAN
METHOD:PUBLISH
X-WR-CALNAME:CIEDUR :: Centro Interdisciplinario de Estudios sobre Desarrollo
X-ORIGINAL-URL:https://ciedur.org.uy/site
X-WR-CALDESC:Eventos para CIEDUR :: Centro Interdisciplinario de Estudios sobre Desarrollo
BEGIN:VTIMEZONE
TZID:UTC
BEGIN:STANDARD
TZOFFSETFROM:+0000
TZOFFSETTO:+0000
TZNAME:UTC
DTSTART:20230101T000000
END:STANDARD
END:VTIMEZONE
BEGIN:VEVENT
DTSTART;TZID=UTC:20231108T190000
DTEND;TZID=UTC:20231108T203000
DTSTAMP:20260423T143142
CREATED:20231108T154836Z
LAST-MODIFIED:20231108T154836Z
UID:1835-1699470000-1699475400@ciedur.org.uy
SUMMARY:¿Cómo erradicar la pobreza infantil? Aportes para la política pública
DESCRIPTION:Evento crucial en el que se abordará la erradicación de la pobreza infantil y su impacto en las políticas públicas.\nDestacamos la participación de Soledad Salvador.
URL:https://ciedur.org.uy/site/agenda/como-erradicar-la-pobreza-infantil-aportes-para-la-politica-publica/
LOCATION:Sarandi 320\, Sarandí 320\, Montevideo\, Uruguay
END:VEVENT
END:VCALENDAR