BEGIN:VCALENDAR
VERSION:2.0
PRODID:-//CIEDUR :: Centro Interdisciplinario de Estudios sobre Desarrollo - ECPv5.8.1//NONSGML v1.0//EN
CALSCALE:GREGORIAN
METHOD:PUBLISH
X-WR-CALNAME:CIEDUR :: Centro Interdisciplinario de Estudios sobre Desarrollo
X-ORIGINAL-URL:https://ciedur.org.uy/site
X-WR-CALDESC:Eventos para CIEDUR :: Centro Interdisciplinario de Estudios sobre Desarrollo
BEGIN:VTIMEZONE
TZID:UTC
BEGIN:STANDARD
TZOFFSETFROM:+0000
TZOFFSETTO:+0000
TZNAME:UTC
DTSTART:20230101T000000
END:STANDARD
END:VTIMEZONE
BEGIN:VEVENT
DTSTART;TZID=UTC:20230623T110000
DTEND;TZID=UTC:20230623T133000
DTSTAMP:20260424T123700
CREATED:20230615T170656Z
LAST-MODIFIED:20230710T154128Z
UID:1656-1687518000-1687527000@ciedur.org.uy
SUMMARY:Claves para la integración socio-urbana desde los territorios
DESCRIPTION:Como integrantes de la Campaña «Nuestros barrios\, nuestros derechos\, nuestras ciudades»\, conformada por más de 60 redes y organizaciones locales\, regionales e internacionales\, les invitamos a la presentación de las demandas y propuestas construidas colectivamente en materia de mejoramiento barrial. \nEl 23 de junio llevaremos a cabo el evento: «Claves para la integración socio-urbana desde los territorios: Hacia la articulación de propuestas y actores de los barrios populares de América Latina»\, en donde presentaremos nuestras propuestas a representantes de gobiernos y agencias financiadoras\, así como con aliadxs\, integrantes de organismos de la sociedad civil y redes regionales e internacionales. \nDestacamos la participación de Ivahanna Larossa que moderará uno de los bloques iniciales. \n¡Te esperamos! \nConoce más\nDocumento completo\nConsulta tu hora local\nInscríbete\nVer Programa\nVer trasmición
URL:https://ciedur.org.uy/site/agenda/claves-para-la-integracion-socio-urbana-para-la-integracion/
END:VEVENT
END:VCALENDAR