BEGIN:VCALENDAR
VERSION:2.0
PRODID:-//CIEDUR :: Centro Interdisciplinario de Estudios sobre Desarrollo - ECPv5.8.1//NONSGML v1.0//EN
CALSCALE:GREGORIAN
METHOD:PUBLISH
X-WR-CALNAME:CIEDUR :: Centro Interdisciplinario de Estudios sobre Desarrollo
X-ORIGINAL-URL:https://ciedur.org.uy/site
X-WR-CALDESC:Eventos para CIEDUR :: Centro Interdisciplinario de Estudios sobre Desarrollo
BEGIN:VTIMEZONE
TZID:UTC
BEGIN:STANDARD
TZOFFSETFROM:+0000
TZOFFSETTO:+0000
TZNAME:UTC
DTSTART:20210101T000000
END:STANDARD
END:VTIMEZONE
BEGIN:VEVENT
DTSTART;VALUE=DATE:20210707
DTEND;VALUE=DATE:20210915
DTSTAMP:20260422T141110
CREATED:20210715T144048Z
LAST-MODIFIED:20210817T001632Z
UID:685-1625616000-1631663999@ciedur.org.uy
SUMMARY:CICLO DE MINGAS Y FORMACIÓN EN TECNOLOGÍAS AGROECOLÓGICAS
DESCRIPTION:En el marco del Proyecto ECCOSUR\, la Red Nacional de Semillas Nativas y Criollas\, organizó el ciclo de mingas y formación en tecnologías agroecológicas. \nPor información e inscripciones: redsemillascriollas@gmail.com
URL:https://ciedur.org.uy/site/agenda/ciclo-de-mingas-y-formacion-en-tecnologias-agroecologicas/
CATEGORIES:tribe_events
END:VEVENT
END:VCALENDAR