BEGIN:VCALENDAR
VERSION:2.0
PRODID:-//CIEDUR :: Centro Interdisciplinario de Estudios sobre Desarrollo - ECPv5.8.1//NONSGML v1.0//EN
CALSCALE:GREGORIAN
METHOD:PUBLISH
X-WR-CALNAME:CIEDUR :: Centro Interdisciplinario de Estudios sobre Desarrollo
X-ORIGINAL-URL:https://ciedur.org.uy/site
X-WR-CALDESC:Eventos para CIEDUR :: Centro Interdisciplinario de Estudios sobre Desarrollo
BEGIN:VTIMEZONE
TZID:UTC
BEGIN:STANDARD
TZOFFSETFROM:+0000
TZOFFSETTO:+0000
TZNAME:UTC
DTSTART:20210101T000000
END:STANDARD
END:VTIMEZONE
BEGIN:VEVENT
DTSTART;TZID=UTC:20210804T180000
DTEND;TZID=UTC:20210804T190000
DTSTAMP:20260419T203333
CREATED:20210726T194833Z
LAST-MODIFIED:20210816T230802Z
UID:697-1628100000-1628103600@ciedur.org.uy
SUMMARY:AGROECOLOGÍA Y SISTEMA PARTICIPATIVO DE GARANTÍAS
DESCRIPTION:En el marco del Proyecto ECCOSUR\, la Intendencia de Lavalleja y Ceuta\, organizaron la actividad «Agroecología y sistema participativo de garantías». \nPor información e inscripciones: ecolavalleja2020@gmail.com
URL:https://ciedur.org.uy/site/agenda/agroecologia-y-sistema-participativo-de-garantias/
CATEGORIES:tribe_events
END:VEVENT
END:VCALENDAR