BEGIN:VCALENDAR
VERSION:2.0
PRODID:-//CIEDUR :: Centro Interdisciplinario de Estudios sobre Desarrollo - ECPv5.8.1//NONSGML v1.0//EN
CALSCALE:GREGORIAN
METHOD:PUBLISH
X-WR-CALNAME:CIEDUR :: Centro Interdisciplinario de Estudios sobre Desarrollo
X-ORIGINAL-URL:https://ciedur.org.uy/site
X-WR-CALDESC:Eventos para CIEDUR :: Centro Interdisciplinario de Estudios sobre Desarrollo
BEGIN:VTIMEZONE
TZID:UTC
BEGIN:STANDARD
TZOFFSETFROM:+0000
TZOFFSETTO:+0000
TZNAME:UTC
DTSTART:20220101T000000
END:STANDARD
END:VTIMEZONE
BEGIN:VEVENT
DTSTART;TZID=UTC:20220503T080000
DTEND;TZID=UTC:20220505T170000
DTSTAMP:20260424T212227
CREATED:20220504T173927Z
LAST-MODIFIED:20220506T141004Z
UID:1277-1651564800-1651770000@ciedur.org.uy
SUMMARY:Agenda Jornadas Internacionales sobre Sistemas de Pensiones FES Montevideo 3 al 5 mayo 2022
DESCRIPTION:Destacamos la participación de Soledad Salvador. \nUNI Américas\, la Fundación Friedrich Ebert Stiftung (FES) y AEBU desarrollarán durante tres días las «Jornadas internacionales sobre sistemas de pensiones» con la participación de representantes de Argentina\, Brasil\, Chile\, Colombia\, El Salvador\, Paraguay\, Costa Rica\, Perú y Uruguay. \nEntre los expositores locales destacamos al exministro de Trabajo Ernesto Murro; al delegado del PIT-CNT en la Comisión de Expertos en Seguridad Social Hugo Bai; a Ramón Ruiz\, director del BPS en representación de los trabajadores\, y los economistas Soledad Giudice y Aníbal Peluffo\, integrantes de la Comisión Técnica Asesora de AEBU. También se presentarán análisis de especialistas de OIT para el Cono Sur\, Ciedur y Cinve. \nEl jueves 5 al mediodía se expondrá la declaración final y documento de las jornadas. Las conclusiones estarán a cargo de nuestro presidente Elbio Monegal; de Ana Palleras\, vicepresidenta de Csteba de Chile\, y de Sergio Palazzo\, presidente de UNI Américas Finanzas y La Bancaria de Argentina. \nPrograma completo
URL:https://ciedur.org.uy/site/agenda/agenda-jornadas-internacionales-sobre-sistemas-de-pensiones-fes-montevideo-3-al-5-mayo-2022/
END:VEVENT
END:VCALENDAR