BEGIN:VCALENDAR
VERSION:2.0
PRODID:-//CIEDUR :: Centro Interdisciplinario de Estudios sobre Desarrollo - ECPv5.8.1//NONSGML v1.0//EN
CALSCALE:GREGORIAN
METHOD:PUBLISH
X-WR-CALNAME:CIEDUR :: Centro Interdisciplinario de Estudios sobre Desarrollo
X-ORIGINAL-URL:https://ciedur.org.uy/site
X-WR-CALDESC:Eventos para CIEDUR :: Centro Interdisciplinario de Estudios sobre Desarrollo
BEGIN:VTIMEZONE
TZID:UTC
BEGIN:STANDARD
TZOFFSETFROM:+0000
TZOFFSETTO:+0000
TZNAME:UTC
DTSTART:20170101T000000
END:STANDARD
END:VTIMEZONE
BEGIN:VEVENT
DTSTART;TZID=UTC:20171123T110000
DTEND;TZID=UTC:20171123T123000
DTSTAMP:20260424T002657
CREATED:20171129T140133Z
LAST-MODIFIED:20210817T030006Z
UID:639-1511434800-1511440200@ciedur.org.uy
SUMMARY:Agenda de género… agenda de investigación
DESCRIPTION:En el marco de las VII Jornadas Académicas de la Facultad de Ciencias Económicas y de Administración a realizarse los días 21\, 22 y 23 de Noviembre\, se desarrollara la mesa Agenda de género… agenda de investigación organizada por el Comité de Calidad con Equidad de dicha facultad. \nTemario \n\nPresentación del evento\nGabriela Pintos\nAvances en la agenda de investigación y aspectos centrales en debate\nEc. Soledad Salvador\nLa brecha salarial de género en América Latina en los últimos 50 años\nSilvana Maubrigades\n¿La igualdad de género se negocia? Análisis de las cláusulas de género en la Quinta Ronda de Salarios\nValentina Alles\nCorresponsabilidad de género en las tareas del cuidado ¿Un objetivo alcanzable?\nEuipo  de trabajo en el Programa de Apoyo a la Investigación Estudiantil de la Comisión Sectorial de Investigación Científica PAIE_CSIC
URL:https://ciedur.org.uy/site/agenda/agenda-de-genero-agenda-de-investigacion/
CATEGORIES:tribe_events
END:VEVENT
END:VCALENDAR