BEGIN:VCALENDAR
VERSION:2.0
PRODID:-//CIEDUR :: Centro Interdisciplinario de Estudios sobre Desarrollo - ECPv5.8.1//NONSGML v1.0//EN
CALSCALE:GREGORIAN
METHOD:PUBLISH
X-WR-CALNAME:CIEDUR :: Centro Interdisciplinario de Estudios sobre Desarrollo
X-ORIGINAL-URL:https://ciedur.org.uy/site
X-WR-CALDESC:Eventos para CIEDUR :: Centro Interdisciplinario de Estudios sobre Desarrollo
BEGIN:VTIMEZONE
TZID:UTC
BEGIN:STANDARD
TZOFFSETFROM:+0000
TZOFFSETTO:+0000
TZNAME:UTC
DTSTART:20250101T000000
END:STANDARD
END:VTIMEZONE
BEGIN:VEVENT
DTSTART;TZID=UTC:20250319T183000
DTEND;TZID=UTC:20250319T200000
DTSTAMP:20260423T112146
CREATED:20250317T181643Z
LAST-MODIFIED:20250317T182103Z
UID:2459-1742409000-1742414400@ciedur.org.uy
SUMMARY:Abordar las barreras estructurales para el progreso en la Plataforma de Acción de Beijing: Financiar los sistemas de cuidado como estrategia de desarrollo
DESCRIPTION:CSW69 Side Event: Abordar las barreras estructurales para el progreso en la Plataforma de Acción de Beijing: Financiar los sistemas de cuidado como estrategia de desarrollo – Propuestas feministas desde el Sur Global\n\nEl trabajo de cuidado sostiene las sociedades y las economías\, pero sigue estando infravalorado y sin recursos.\n¿Cómo puede la financiación de los sistemas de cuidados impulsar la igualdad de género y el desarrollo sostenible?\n\n\n\n\n\n\n\nDestacamos la participación de Alma Espino y Soledad Salvador en representación de la Red de Género y Comercio.\n\n\n\n\n\n\n\n\n\n\n\n\n\nRegistro\, aquí.
URL:https://ciedur.org.uy/site/agenda/abordar-las-barreras-estructurales-para-el-progreso-en-la-plataforma-de-accion-de-beijing-financiar-los-sistemas-de-cuidado-como-estrategia-de-desarrollo/
LOCATION:United Nations Headquarters\, CR-12 at the United Nations Headquarters in New York City\, New York\, Estados Unidos
END:VEVENT
END:VCALENDAR