BEGIN:VCALENDAR
VERSION:2.0
PRODID:-//CIEDUR :: Centro Interdisciplinario de Estudios sobre Desarrollo - ECPv5.8.1//NONSGML v1.0//EN
CALSCALE:GREGORIAN
METHOD:PUBLISH
X-WR-CALNAME:CIEDUR :: Centro Interdisciplinario de Estudios sobre Desarrollo
X-ORIGINAL-URL:https://ciedur.org.uy/site
X-WR-CALDESC:Eventos para CIEDUR :: Centro Interdisciplinario de Estudios sobre Desarrollo
BEGIN:VTIMEZONE
TZID:UTC
BEGIN:STANDARD
TZOFFSETFROM:+0000
TZOFFSETTO:+0000
TZNAME:UTC
DTSTART:20210101T000000
END:STANDARD
END:VTIMEZONE
BEGIN:VEVENT
DTSTART;TZID=UTC:20210731T090000
DTEND;TZID=UTC:20210731T170000
DTSTAMP:20260420T002302
CREATED:20210820T121616Z
LAST-MODIFIED:20210820T121658Z
UID:901-1627722000-1627750800@ciedur.org.uy
SUMMARY:Taller práctico de bioconstrucción
DESCRIPTION:En el marco del Proyecto ECCOSUR\, Solís en Transición\, organizó el ciclo el primer taller práctico de bioconstrucción gratuito en el Parque Mataojo\, Solís de Mataojo.
URL:https://ciedur.org.uy/site/agenda/901/
END:VEVENT
END:VCALENDAR