BEGIN:VCALENDAR
VERSION:2.0
PRODID:-//CIEDUR :: Centro Interdisciplinario de Estudios sobre Desarrollo - ECPv5.8.1//NONSGML v1.0//EN
CALSCALE:GREGORIAN
METHOD:PUBLISH
X-WR-CALNAME:CIEDUR :: Centro Interdisciplinario de Estudios sobre Desarrollo
X-ORIGINAL-URL:https://ciedur.org.uy/site
X-WR-CALDESC:Eventos para CIEDUR :: Centro Interdisciplinario de Estudios sobre Desarrollo
BEGIN:VTIMEZONE
TZID:UTC
BEGIN:STANDARD
TZOFFSETFROM:+0000
TZOFFSETTO:+0000
TZNAME:UTC
DTSTART:20170101T000000
END:STANDARD
END:VTIMEZONE
BEGIN:VEVENT
DTSTART;TZID=UTC:20171123T080000
DTEND;TZID=UTC:20171124T170000
DTSTAMP:20260424T020212
CREATED:20171129T134831Z
LAST-MODIFIED:20210817T030726Z
UID:636-1511424000-1511542800@ciedur.org.uy
SUMMARY:14° Encuentro Femista de América Latina
DESCRIPTION:El encuentro tiene el objetivo de contribuir al fortalecimiento de la democracia en América Latina a partir de la incorporación de los derechos humanos de las mujeres desde una perspectiva feminista en la agenda de los Estados y de las sociedades\, al propiciar un espacio de discusión y encuentro entre las diversas expresiones del movimiento feminista de América Latina y Caribe\, como parte de la sociedad civil organizada.\n Programa
URL:https://ciedur.org.uy/site/agenda/14-encuentro-femista-de-america-latina/
CATEGORIES:tribe_events
END:VEVENT
END:VCALENDAR